BEGIN:VCALENDAR
VERSION:2.0
PRODID:-//TYPO3/NONSGML Calendarize//EN
BEGIN:VEVENT
UID:calendarize-kunstausstellung-fantastisch-vielfaeltig-lesen-eroeffnet-w
 elten
DTSTAMP:20260424T133927Z
DTSTART;VALUE=DATE:20260508
DTEND;VALUE=DATE:20260704
SUMMARY:Kunstausstellung: Fantastisch vielfältig - Lesen eröffnet Welten
DESCRIPTION:"Fantastisch vielfältig - Lesen eröffnet Welten" ist der Tit
 el der Ausstellung\, zu der Schülerinnen und Schüler der Hermann-Leeser-
 Schule in den letzten Wochen kreative und sehr unterschiedliche Kunstarbei
 ten erstellt haben. Nach der Ausstellungseröffnung am 8. Mai sind diese A
 rbeiten\, die schwerpunktmäßig in den Jahrgängen 5 und 6 entstanden sin
 d\, noch bis zum 3. Juli 2026 in der Stadtbücherei zu sehen. Ein besonder
 es Highlight ist die Mitwirkung des Dülmener Künstlers Martin McKiernan\
 , der seine aktuellen Collagen zu dem Thema "Lesen" zeigt. Ein Besuch lohn
 t sich.
X-ALT-DESC;FMTTYPE=text/html:<p>"Fantastisch vielfältig - Lesen eröffnet
  Welten" ist der Titel der Ausstellung\, zu der Schülerinnen und Schüler
  der Hermann-Leeser-Schule in den letzten Wochen kreative und sehr untersc
 hiedliche Kunstarbeiten erstellt haben. Nach der Ausstellungseröffnung am
  8. Mai sind diese Arbeiten\, die schwerpunktmäßig in den Jahrgängen 5 
 und 6 entstanden sind\, noch bis zum 3. Juli 2026 in der Stadtbücherei zu
  sehen. Ein besonderes Highlight ist die Mitwirkung des Dülmener Künstle
 rs Martin McKiernan\, der seine aktuellen Collagen zu dem Thema "Lesen" ze
 igt. Ein Besuch lohnt sich.</p>
LOCATION:
END:VEVENT
END:VCALENDAR
