BEGIN:VCALENDAR
VERSION:2.0
PRODID:-//TYPO3/NONSGML Calendarize//EN
BEGIN:VEVENT
UID:calendarize-netzwerk-gartenvielfalt-ausstellung-ueber-lichtverschmutzu
 ng
DTSTAMP:20260424T133744Z
DTSTART;VALUE=DATE:20260427
DTEND;VALUE=DATE:20260609
SUMMARY:Netzwerk Gartenvielfalt: Ausstellung über Lichtverschmutzung
DESCRIPTION:Die Ausstellung der Initiative “Paten der Nacht“\, zu der 
 die Stadtbücherei und das Netzwerk Gartenvielfalt einladen\, befasst sich
  eindrucksvoll mit den Auswirkungen von künstlichem Licht auf uns und uns
 ere Umwelt. Sie zeigt\, wie ein Zuviel an Licht Sterne unsichtbar macht un
 d den Biorhythmus stört – mit gravierenden Folgen für Tiere\, Pflanzen
  und uns Menschen. Sie bietet aber auch Lösungen an\, mit denen die Resso
 urce “Dunkelheit“ verteidigt werden kann. Die Ausstellung wird begleit
 et durch eine Medienauswahl der Stadtbücherei.
X-ALT-DESC;FMTTYPE=text/html:<p>Die Ausstellung der Initiative “Paten de
 r Nacht“\, zu der die Stadtbücherei und das Netzwerk Gartenvielfalt ein
 laden\, befasst sich eindrucksvoll mit den Auswirkungen von künstlichem L
 icht auf uns und unsere Umwelt.<br /> Sie zeigt\, wie ein Zuviel an Licht 
 Sterne unsichtbar macht und den Biorhythmus stört – mit gravierenden Fo
 lgen für Tiere\, Pflanzen und uns Menschen.<br /> Sie bietet aber auch Lö
 sungen an\, mit denen die Ressource “Dunkelheit“ verteidigt werden kan
 n.<br /> Die Ausstellung wird begleitet durch eine Medienauswahl der Stadt
 bücherei.</p>
LOCATION:
END:VEVENT
END:VCALENDAR
